Package: plotGrouper Version: 1.18.0 Command: /home/biocbuild/bbs-3.17-bioc/R/bin/R CMD check --install=check:plotGrouper.install-out.txt --library=/home/biocbuild/bbs-3.17-bioc/R/site-library --timings plotGrouper_1.18.0.tar.gz StartedAt: 2023-10-15 23:56:05 -0400 (Sun, 15 Oct 2023) EndedAt: 2023-10-15 23:56:51 -0400 (Sun, 15 Oct 2023) EllapsedTime: 46.0 seconds RetCode: 0 Status: OK CheckDir: plotGrouper.Rcheck Warnings: 0