Package: plotGrouper Version: 1.18.0 Command: /home/biocbuild/bbs-3.17-bioc/R/bin/R CMD build --keep-empty-dirs --no-resave-data plotGrouper StartedAt: 2023-10-15 17:59:09 -0400 (Sun, 15 Oct 2023) EndedAt: 2023-10-15 17:59:17 -0400 (Sun, 15 Oct 2023) EllapsedTime: 7.6 seconds RetCode: 0 Status: OK PackageFile: plotGrouper_1.18.0.tar.gz PackageFileSize: 704.3 KiB