Package: plier Version: 1.70.0 Command: F:\biocbuild\bbs-3.17-bioc\R\bin\R.exe CMD INSTALL plier StartedAt: 2023-10-15 15:51:17 -0400 (Sun, 15 Oct 2023) EndedAt: 2023-10-15 15:51:30 -0400 (Sun, 15 Oct 2023) EllapsedTime: 12.6 seconds RetCode: 0 Status: OK