Package: plier Version: 1.70.0 Command: /home/biocbuild/bbs-3.17-bioc/R/bin/R CMD check --install=check:plier.install-out.txt --library=/home/biocbuild/bbs-3.17-bioc/R/site-library --timings plier_1.70.0.tar.gz StartedAt: 2023-10-15 23:55:53 -0400 (Sun, 15 Oct 2023) EndedAt: 2023-10-15 23:56:15 -0400 (Sun, 15 Oct 2023) EllapsedTime: 22.3 seconds RetCode: 0 Status: OK CheckDir: plier.Rcheck Warnings: 0