Package: plethy Version: 1.38.0 Command: chmod a+r plethy -R && F:\biocbuild\bbs-3.17-bioc\R\bin\R.exe CMD build --keep-empty-dirs --no-resave-data plethy StartedAt: 2023-10-15 21:22:20 -0400 (Sun, 15 Oct 2023) EndedAt: 2023-10-15 21:22:55 -0400 (Sun, 15 Oct 2023) EllapsedTime: 34.8 seconds RetCode: 0 Status: OK PackageFile: plethy_1.38.0.tar.gz PackageFileSize: 1.023 MiB