Package: plethy Version: 1.38.0 Command: rm -rf plethy.buildbin-libdir && mkdir plethy.buildbin-libdir && F:\biocbuild\bbs-3.17-bioc\R\bin\R.exe CMD INSTALL --build --library=plethy.buildbin-libdir plethy_1.38.0.tar.gz StartedAt: 2023-10-16 09:16:19 -0400 (Mon, 16 Oct 2023) EndedAt: 2023-10-16 09:16:42 -0400 (Mon, 16 Oct 2023) EllapsedTime: 22.8 seconds RetCode: 0 Status: OK PackageFile: plethy_1.38.0.zip PackageFileSize: 1.301 MiB