Package: plethy Version: 1.38.0 Command: /Library/Frameworks/R.framework/Resources/bin/R CMD INSTALL plethy StartedAt: 2023-10-15 15:19:23 -0400 (Sun, 15 Oct 2023) EndedAt: 2023-10-15 15:20:27 -0400 (Sun, 15 Oct 2023) EllapsedTime: 63.1 seconds RetCode: 0 Status: OK