Package: plethy Version: 1.38.0 Command: /Library/Frameworks/R.framework/Resources/bin/R CMD check --install=check:plethy.install-out.txt --library=/Library/Frameworks/R.framework/Resources/library --no-vignettes --timings plethy_1.38.0.tar.gz StartedAt: 2023-10-16 05:18:44 -0400 (Mon, 16 Oct 2023) EndedAt: 2023-10-16 05:25:40 -0400 (Mon, 16 Oct 2023) EllapsedTime: 415.9 seconds RetCode: 1 Status: ERROR CheckDir: plethy.Rcheck Warnings: NA