Package: plethy Version: 1.38.0 Command: /Library/Frameworks/R.framework/Resources/bin/R CMD build --keep-empty-dirs --no-resave-data plethy StartedAt: 2023-10-15 20:19:08 -0400 (Sun, 15 Oct 2023) EndedAt: 2023-10-15 20:20:43 -0400 (Sun, 15 Oct 2023) EllapsedTime: 94.1 seconds RetCode: 0 Status: OK PackageFile: plethy_1.38.0.tar.gz PackageFileSize: 1.022 MiB