Package: planttfhunter Version: 1.0.0 Command: rm -rf planttfhunter.buildbin-libdir && mkdir planttfhunter.buildbin-libdir && /Users/biocbuild/BBS/utils/build-universal.sh planttfhunter_1.0.0.tar.gz /Library/Frameworks/R.framework/Resources/bin/R planttfhunter.buildbin-libdir StartedAt: 2023-10-16 09:55:49 -0400 (Mon, 16 Oct 2023) EndedAt: 2023-10-16 09:57:03 -0400 (Mon, 16 Oct 2023) EllapsedTime: 73.8 seconds RetCode: 0 Status: OK PackageFile: planttfhunter_1.0.0.tgz PackageFileSize: 1.001 MiB