Package: planet Version: 1.8.0 Command: chmod a+r planet -R && F:\biocbuild\bbs-3.17-bioc\R\bin\R.exe CMD build --keep-empty-dirs --no-resave-data planet StartedAt: 2023-10-15 21:22:07 -0400 (Sun, 15 Oct 2023) EndedAt: 2023-10-15 21:22:53 -0400 (Sun, 15 Oct 2023) EllapsedTime: 45.1 seconds RetCode: 0 Status: OK PackageFile: planet_1.8.0.tar.gz PackageFileSize: 2.685 MiB