Package: planet Version: 1.8.0 Command: /Library/Frameworks/R.framework/Resources/bin/R CMD build --keep-empty-dirs --no-resave-data planet StartedAt: 2023-10-15 20:18:33 -0400 (Sun, 15 Oct 2023) EndedAt: 2023-10-15 20:20:04 -0400 (Sun, 15 Oct 2023) EllapsedTime: 91.2 seconds RetCode: 0 Status: OK PackageFile: planet_1.8.0.tar.gz PackageFileSize: 2.752 MiB