Package: pkgDepTools Version: 1.66.0 Command: /home/biocbuild/bbs-3.17-bioc/R/bin/R CMD build --keep-empty-dirs --no-resave-data pkgDepTools StartedAt: 2023-10-15 17:58:43 -0400 (Sun, 15 Oct 2023) EndedAt: 2023-10-15 18:25:36 -0400 (Sun, 15 Oct 2023) EllapsedTime: 1613.2 seconds RetCode: 0 Status: OK PackageFile: pkgDepTools_1.66.0.tar.gz PackageFileSize: 125.2 KiB