Package: pkgDepTools Version: 1.66.0 Command: /Library/Frameworks/R.framework/Resources/bin/R CMD INSTALL pkgDepTools StartedAt: 2023-10-15 15:09:37 -0400 (Sun, 15 Oct 2023) EndedAt: 2023-10-15 15:10:18 -0400 (Sun, 15 Oct 2023) EllapsedTime: 40.3 seconds RetCode: 0 Status: OK