Package: pkgDepTools Version: 1.66.0 Command: /Library/Frameworks/R.framework/Resources/bin/R CMD build --keep-empty-dirs --no-resave-data pkgDepTools StartedAt: 2023-10-15 20:18:32 -0400 (Sun, 15 Oct 2023) EndedAt: 2023-10-15 20:58:33 -0400 (Sun, 15 Oct 2023) EllapsedTime: 2400.9 seconds RetCode: None Status: TIMEOUT PackageFile: None PackageFileSize: NA