Package: pipeFrame Version: 1.16.0 Command: /home/biocbuild/bbs-3.17-bioc/R/bin/R CMD INSTALL pipeFrame StartedAt: 2023-10-15 15:25:57 -0400 (Sun, 15 Oct 2023) EndedAt: 2023-10-15 15:26:27 -0400 (Sun, 15 Oct 2023) EllapsedTime: 29.7 seconds RetCode: 0 Status: OK