Package: pipeFrame Version: 1.16.0 Command: /Library/Frameworks/R.framework/Resources/bin/R CMD INSTALL pipeFrame StartedAt: 2023-10-15 15:44:14 -0400 (Sun, 15 Oct 2023) EndedAt: 2023-10-15 15:45:55 -0400 (Sun, 15 Oct 2023) EllapsedTime: 100.8 seconds RetCode: 0 Status: OK