Package: pipeFrame Version: 1.16.0 Command: /Library/Frameworks/R.framework/Resources/bin/R CMD check --install=check:pipeFrame.install-out.txt --library=/Library/Frameworks/R.framework/Resources/library --no-vignettes --timings pipeFrame_1.16.0.tar.gz StartedAt: 2023-10-16 05:18:24 -0400 (Mon, 16 Oct 2023) EndedAt: 2023-10-16 05:28:26 -0400 (Mon, 16 Oct 2023) EllapsedTime: 602.4 seconds RetCode: 0 Status: OK CheckDir: pipeFrame.Rcheck Warnings: 0