Package: pickgene Version: 1.72.0 Command: F:\biocbuild\bbs-3.17-bioc\R\bin\R.exe CMD check --no-multiarch --install=check:pickgene.install-out.txt --library=F:\biocbuild\bbs-3.17-bioc\R\library --no-vignettes --timings pickgene_1.72.0.tar.gz StartedAt: 2023-10-16 05:19:33 -0400 (Mon, 16 Oct 2023) EndedAt: 2023-10-16 05:20:04 -0400 (Mon, 16 Oct 2023) EllapsedTime: 31.6 seconds RetCode: 0 Status: WARNINGS CheckDir: pickgene.Rcheck Warnings: 1