Package: pickgene Version: 1.72.0 Command: chmod a+r pickgene -R && F:\biocbuild\bbs-3.17-bioc\R\bin\R.exe CMD build --keep-empty-dirs --no-resave-data pickgene StartedAt: 2023-10-15 21:21:16 -0400 (Sun, 15 Oct 2023) EndedAt: 2023-10-15 21:21:25 -0400 (Sun, 15 Oct 2023) EllapsedTime: 8.9 seconds RetCode: 0 Status: OK PackageFile: pickgene_1.72.0.tar.gz PackageFileSize: 196.4 KiB