Package: pickgene Version: 1.72.0 Command: rm -rf pickgene.buildbin-libdir && mkdir pickgene.buildbin-libdir && F:\biocbuild\bbs-3.17-bioc\R\bin\R.exe CMD INSTALL --build --library=pickgene.buildbin-libdir pickgene_1.72.0.tar.gz StartedAt: 2023-10-16 09:15:55 -0400 (Mon, 16 Oct 2023) EndedAt: 2023-10-16 09:16:01 -0400 (Mon, 16 Oct 2023) EllapsedTime: 5.8 seconds RetCode: 0 Status: OK PackageFile: pickgene_1.72.0.zip PackageFileSize: 293.3 KiB