Package: piano Version: 2.16.0 Command: /home/biocbuild/bbs-3.17-bioc/R/bin/R CMD check --install=check:piano.install-out.txt --library=/home/biocbuild/bbs-3.17-bioc/R/site-library --timings piano_2.16.0.tar.gz StartedAt: 2023-10-15 23:53:12 -0400 (Sun, 15 Oct 2023) EndedAt: 2023-10-15 23:55:53 -0400 (Sun, 15 Oct 2023) EllapsedTime: 160.7 seconds RetCode: 0 Status: OK CheckDir: piano.Rcheck Warnings: 0