Package: piano Version: 2.16.0 Command: /home/biocbuild/bbs-3.17-bioc/R/bin/R CMD build --keep-empty-dirs --no-resave-data piano StartedAt: 2023-10-15 17:58:10 -0400 (Sun, 15 Oct 2023) EndedAt: 2023-10-15 17:59:01 -0400 (Sun, 15 Oct 2023) EllapsedTime: 51.1 seconds RetCode: 0 Status: OK PackageFile: piano_2.16.0.tar.gz PackageFileSize: 1.532 MiB