Package: piano Version: 2.16.0 Command: /Library/Frameworks/R.framework/Resources/bin/R CMD INSTALL piano StartedAt: 2023-10-15 16:01:00 -0400 (Sun, 15 Oct 2023) EndedAt: 2023-10-15 16:01:53 -0400 (Sun, 15 Oct 2023) EllapsedTime: 52.8 seconds RetCode: 0 Status: OK