Package: piano Version: 2.16.0 Command: _R_CHECK_FORCE_SUGGESTS_=0 /Library/Frameworks/R.framework/Resources/bin/R CMD check --install=check:piano.install-out.txt --library=/Library/Frameworks/R.framework/Resources/library --no-vignettes --timings piano_2.16.0.tar.gz StartedAt: 2023-10-16 05:17:00 -0400 (Mon, 16 Oct 2023) EndedAt: 2023-10-16 05:22:40 -0400 (Mon, 16 Oct 2023) EllapsedTime: 340.3 seconds RetCode: 0 Status: OK CheckDir: piano.Rcheck Warnings: 0