Package: piano Version: 2.16.0 Command: /Library/Frameworks/R.framework/Resources/bin/R CMD build --keep-empty-dirs --no-resave-data piano StartedAt: 2023-10-15 20:17:26 -0400 (Sun, 15 Oct 2023) EndedAt: 2023-10-15 20:19:57 -0400 (Sun, 15 Oct 2023) EllapsedTime: 151.3 seconds RetCode: 0 Status: OK PackageFile: piano_2.16.0.tar.gz PackageFileSize: 1.542 MiB