Package: phyloseq Version: 1.44.0 Command: F:\biocbuild\bbs-3.17-bioc\R\bin\R.exe CMD INSTALL phyloseq StartedAt: 2023-10-15 16:43:47 -0400 (Sun, 15 Oct 2023) EndedAt: 2023-10-15 16:44:34 -0400 (Sun, 15 Oct 2023) EllapsedTime: 47.5 seconds RetCode: 0 Status: OK