Package: phyloseq Version: 1.44.0 Command: chmod a+r phyloseq -R && F:\biocbuild\bbs-3.17-bioc\R\bin\R.exe CMD build --keep-empty-dirs --no-resave-data phyloseq StartedAt: 2023-10-15 21:21:07 -0400 (Sun, 15 Oct 2023) EndedAt: 2023-10-15 21:27:07 -0400 (Sun, 15 Oct 2023) EllapsedTime: 359.3 seconds RetCode: 0 Status: OK PackageFile: phyloseq_1.44.0.tar.gz PackageFileSize: 4.032 MiB