Package: phyloseq Version: 1.44.0 Command: /home/biocbuild/bbs-3.17-bioc/R/bin/R CMD INSTALL phyloseq StartedAt: 2023-10-15 15:38:06 -0400 (Sun, 15 Oct 2023) EndedAt: 2023-10-15 15:38:32 -0400 (Sun, 15 Oct 2023) EllapsedTime: 25.6 seconds RetCode: 0 Status: OK