Package: phyloseq Version: 1.44.0 Command: /home/biocbuild/bbs-3.17-bioc/R/bin/R CMD build --keep-empty-dirs --no-resave-data phyloseq StartedAt: 2023-10-15 17:58:04 -0400 (Sun, 15 Oct 2023) EndedAt: 2023-10-15 17:59:58 -0400 (Sun, 15 Oct 2023) EllapsedTime: 114.6 seconds RetCode: 0 Status: OK PackageFile: phyloseq_1.44.0.tar.gz PackageFileSize: 5.434 MiB