Package: phyloseq Version: 1.44.0 Command: /Library/Frameworks/R.framework/Resources/bin/R CMD build --keep-empty-dirs --no-resave-data phyloseq StartedAt: 2023-10-15 20:17:19 -0400 (Sun, 15 Oct 2023) EndedAt: 2023-10-15 20:22:25 -0400 (Sun, 15 Oct 2023) EllapsedTime: 306.0 seconds RetCode: 0 Status: OK PackageFile: phyloseq_1.44.0.tar.gz PackageFileSize: 5.982 MiB