Package: phosphonormalizer Version: 1.24.0 Command: /home/biocbuild/bbs-3.17-bioc/R/bin/R CMD check --install=check:phosphonormalizer.install-out.txt --library=/home/biocbuild/bbs-3.17-bioc/R/site-library --timings phosphonormalizer_1.24.0.tar.gz StartedAt: 2023-10-15 23:52:15 -0400 (Sun, 15 Oct 2023) EndedAt: 2023-10-15 23:52:50 -0400 (Sun, 15 Oct 2023) EllapsedTime: 35.0 seconds RetCode: 0 Status: OK CheckDir: phosphonormalizer.Rcheck Warnings: 0