Package: phosphonormalizer Version: 1.24.0 Command: /home/biocbuild/bbs-3.17-bioc/R/bin/R CMD build --keep-empty-dirs --no-resave-data phosphonormalizer StartedAt: 2023-10-15 17:57:43 -0400 (Sun, 15 Oct 2023) EndedAt: 2023-10-15 17:57:51 -0400 (Sun, 15 Oct 2023) EllapsedTime: 8.0 seconds RetCode: 0 Status: OK PackageFile: phosphonormalizer_1.24.0.tar.gz PackageFileSize: 2.586 MiB