Package: philr Version: 1.26.0 Command: rm -rf philr.buildbin-libdir && mkdir philr.buildbin-libdir && F:\biocbuild\bbs-3.17-bioc\R\bin\R.exe CMD INSTALL --build --library=philr.buildbin-libdir philr_1.26.0.tar.gz StartedAt: 2023-10-16 09:15:36 -0400 (Mon, 16 Oct 2023) EndedAt: 2023-10-16 09:15:49 -0400 (Mon, 16 Oct 2023) EllapsedTime: 13.3 seconds RetCode: 0 Status: OK PackageFile: philr_1.26.0.zip PackageFileSize: 382.6 KiB