Package: phenomis Version: 1.2.0 Command: rm -rf phenomis.buildbin-libdir && mkdir phenomis.buildbin-libdir && F:\biocbuild\bbs-3.17-bioc\R\bin\R.exe CMD INSTALL --build --library=phenomis.buildbin-libdir phenomis_1.2.0.tar.gz StartedAt: 2023-10-16 09:15:26 -0400 (Mon, 16 Oct 2023) EndedAt: 2023-10-16 09:16:16 -0400 (Mon, 16 Oct 2023) EllapsedTime: 50.0 seconds RetCode: 0 Status: OK PackageFile: phenomis_1.2.0.zip PackageFileSize: 2.345 MiB