Package: phenomis Version: 1.2.0 Command: /home/biocbuild/bbs-3.17-bioc/R/bin/R CMD check --install=check:phenomis.install-out.txt --library=/home/biocbuild/bbs-3.17-bioc/R/site-library --timings phenomis_1.2.0.tar.gz StartedAt: 2023-10-15 23:51:41 -0400 (Sun, 15 Oct 2023) EndedAt: 2023-10-15 23:57:29 -0400 (Sun, 15 Oct 2023) EllapsedTime: 347.9 seconds RetCode: 0 Status: OK CheckDir: phenomis.Rcheck Warnings: 0