Package: phenomis Version: 1.2.0 Command: /Library/Frameworks/R.framework/Resources/bin/R CMD build --keep-empty-dirs --no-resave-data phenomis StartedAt: 2023-10-15 20:15:33 -0400 (Sun, 15 Oct 2023) EndedAt: 2023-10-15 20:20:14 -0400 (Sun, 15 Oct 2023) EllapsedTime: 281.0 seconds RetCode: 0 Status: OK PackageFile: phenomis_1.2.0.tar.gz PackageFileSize: 3.512 MiB