Package: phenomis Version: 1.2.0 Command: rm -rf phenomis.buildbin-libdir && mkdir phenomis.buildbin-libdir && /Users/biocbuild/BBS/utils/build-universal.sh phenomis_1.2.0.tar.gz /Library/Frameworks/R.framework/Resources/bin/R phenomis.buildbin-libdir StartedAt: 2023-10-16 09:55:14 -0400 (Mon, 16 Oct 2023) EndedAt: 2023-10-16 09:57:21 -0400 (Mon, 16 Oct 2023) EllapsedTime: 127.0 seconds RetCode: 0 Status: OK PackageFile: phenomis_1.2.0.tgz PackageFileSize: 3.543 MiB