Package: phenoTest Version: 1.48.0 Command: rm -rf phenoTest.buildbin-libdir && mkdir phenoTest.buildbin-libdir && F:\biocbuild\bbs-3.17-bioc\R\bin\R.exe CMD INSTALL --build --library=phenoTest.buildbin-libdir phenoTest_1.48.0.tar.gz StartedAt: 2023-10-16 09:15:30 -0400 (Mon, 16 Oct 2023) EndedAt: 2023-10-16 09:16:19 -0400 (Mon, 16 Oct 2023) EllapsedTime: 48.9 seconds RetCode: 0 Status: OK PackageFile: phenoTest_1.48.0.zip PackageFileSize: 1.719 MiB