Package: phenoTest Version: 1.48.0 Command: /Library/Frameworks/R.framework/Resources/bin/R CMD INSTALL phenoTest StartedAt: 2023-10-15 16:02:18 -0400 (Sun, 15 Oct 2023) EndedAt: 2023-10-15 16:04:12 -0400 (Sun, 15 Oct 2023) EllapsedTime: 113.8 seconds RetCode: 0 Status: OK