Package: phenoTest Version: 1.48.0 Command: /Library/Frameworks/R.framework/Resources/bin/R CMD build --keep-empty-dirs --no-resave-data phenoTest StartedAt: 2023-10-15 20:15:57 -0400 (Sun, 15 Oct 2023) EndedAt: 2023-10-15 20:19:08 -0400 (Sun, 15 Oct 2023) EllapsedTime: 191.8 seconds RetCode: 0 Status: OK PackageFile: phenoTest_1.48.0.tar.gz PackageFileSize: 1.273 MiB