Package: phantasus Version: 1.20.2 Command: F:\biocbuild\bbs-3.17-bioc\R\bin\R.exe CMD INSTALL phantasus StartedAt: 2023-10-15 16:36:58 -0400 (Sun, 15 Oct 2023) EndedAt: 2023-10-15 16:37:37 -0400 (Sun, 15 Oct 2023) EllapsedTime: 39.1 seconds RetCode: 0 Status: OK