Package: phantasus Version: 1.20.2 Command: rm -rf phantasus.buildbin-libdir && mkdir phantasus.buildbin-libdir && F:\biocbuild\bbs-3.17-bioc\R\bin\R.exe CMD INSTALL --build --library=phantasus.buildbin-libdir phantasus_1.20.2.tar.gz StartedAt: 2023-10-16 09:15:19 -0400 (Mon, 16 Oct 2023) EndedAt: 2023-10-16 09:15:53 -0400 (Mon, 16 Oct 2023) EllapsedTime: 34.6 seconds RetCode: 0 Status: OK PackageFile: phantasus_1.20.2.zip PackageFileSize: 8.215 MiB