Package: phantasus Version: 1.20.2 Command: /home/biocbuild/bbs-3.17-bioc/R/bin/R CMD check --install=check:phantasus.install-out.txt --library=/home/biocbuild/bbs-3.17-bioc/R/site-library --timings phantasus_1.20.2.tar.gz StartedAt: 2023-10-15 23:51:35 -0400 (Sun, 15 Oct 2023) EndedAt: 2023-10-15 23:56:07 -0400 (Sun, 15 Oct 2023) EllapsedTime: 271.8 seconds RetCode: 0 Status: OK CheckDir: phantasus.Rcheck Warnings: 0