Package: phantasus Version: 1.20.2 Command: /home/biocbuild/bbs-3.17-bioc/R/bin/R CMD build --keep-empty-dirs --no-resave-data phantasus StartedAt: 2023-10-15 17:56:43 -0400 (Sun, 15 Oct 2023) EndedAt: 2023-10-15 17:57:14 -0400 (Sun, 15 Oct 2023) EllapsedTime: 30.6 seconds RetCode: 0 Status: OK PackageFile: phantasus_1.20.2.tar.gz PackageFileSize: 9.489 MiB