Package: phantasus Version: 1.20.2 Command: /Library/Frameworks/R.framework/Resources/bin/R CMD check --install=check:phantasus.install-out.txt --library=/Library/Frameworks/R.framework/Resources/library --no-vignettes --timings phantasus_1.20.2.tar.gz StartedAt: 2023-10-16 05:14:22 -0400 (Mon, 16 Oct 2023) EndedAt: 2023-10-16 05:25:23 -0400 (Mon, 16 Oct 2023) EllapsedTime: 661.1 seconds RetCode: 0 Status: OK CheckDir: phantasus.Rcheck Warnings: 0