Package: pgca Version: 1.24.0 Command: chmod a+r pgca -R && F:\biocbuild\bbs-3.17-bioc\R\bin\R.exe CMD build --keep-empty-dirs --no-resave-data pgca StartedAt: 2023-10-15 21:18:34 -0400 (Sun, 15 Oct 2023) EndedAt: 2023-10-15 21:18:41 -0400 (Sun, 15 Oct 2023) EllapsedTime: 7.0 seconds RetCode: 0 Status: OK PackageFile: pgca_1.24.0.tar.gz PackageFileSize: 220.1 KiB