Package: pfamAnalyzeR Version: 1.0.1 Command: rm -rf pfamAnalyzeR.buildbin-libdir && mkdir pfamAnalyzeR.buildbin-libdir && F:\biocbuild\bbs-3.17-bioc\R\bin\R.exe CMD INSTALL --build --library=pfamAnalyzeR.buildbin-libdir pfamAnalyzeR_1.0.1.tar.gz StartedAt: 2023-10-16 09:15:15 -0400 (Mon, 16 Oct 2023) EndedAt: 2023-10-16 09:15:21 -0400 (Mon, 16 Oct 2023) EllapsedTime: 5.6 seconds RetCode: 0 Status: OK PackageFile: pfamAnalyzeR_1.0.1.zip PackageFileSize: 316.6 KiB