Package: peco Version: 1.12.0 Command: chmod a+r peco -R && F:\biocbuild\bbs-3.17-bioc\R\bin\R.exe CMD build --keep-empty-dirs --no-resave-data peco StartedAt: 2023-10-15 21:17:11 -0400 (Sun, 15 Oct 2023) EndedAt: 2023-10-15 21:19:50 -0400 (Sun, 15 Oct 2023) EllapsedTime: 159.7 seconds RetCode: 0 Status: OK PackageFile: peco_1.12.0.tar.gz PackageFileSize: 1.028 MiB