Package: peco Version: 1.12.0 Command: /home/biocbuild/bbs-3.17-bioc/R/bin/R CMD build --keep-empty-dirs --no-resave-data peco StartedAt: 2023-10-15 17:55:58 -0400 (Sun, 15 Oct 2023) EndedAt: 2023-10-15 17:59:09 -0400 (Sun, 15 Oct 2023) EllapsedTime: 190.6 seconds RetCode: 0 Status: OK PackageFile: peco_1.12.0.tar.gz PackageFileSize: 1.056 MiB